BEGIN:VCALENDAR
PRODID:-//Det Danske Spejderkorps//NONSGML Gruppeweb//EN
VERSION:2.0
CALSCALE:GREGORIAN
X-PUBLISHED-TTL:PT1H
X-WR-CALNAME:Klan Sukkeregern\; senior
METHOD:PUBLISH
BEGIN:VEVENT
UID:gruppeweb.dk:2415:event:2229
DTSTAMP:20260421T075925Z
LAST-MODIFIED:20260212T203032Z
SUMMARY:Hyttetur til Sverige 2025
DESCRIPTION:\n
URL:https://www.wagandoo.dk/begivenhed/hyttetur-til-sverige-2025
DTSTART:20250502T150000Z
DTEND:20250504T150000Z
LOCATION:Wagandoo Gruppe\, Ibsensvej 12\, 2630 Taastrup
END:VEVENT
BEGIN:VEVENT
UID:gruppeweb.dk:2415:event:2226
DTSTAMP:20260421T075925Z
LAST-MODIFIED:20260212T203039Z
SUMMARY:Oak City Rally - 50 års jubilæum
DESCRIPTION:Velkommen til Oak City 2025\,\n\nDette års sæbekassebilløb f
 oregår som sædvanligt i Farum\, men vi mødes  \ni wagandoo spejderhytte
  og kører sammen til Farum.\n\nDet er vigtigt at i svarer på nedenståen
 de spørgsmål om I kan have børn  \nmed i jeres bil til Farum. Det vil v
 ære en stor hjælp for alle de  \nfrivillige ledere. Vi opretter en messe
 ngertråd blandt chaufførerne så de  \nkan koordinere undervejs.\n\nLøb
 et slutter kl. 14 ca. hvorefter i kan køre biler ind tæt på der hvor  \
 nløbet slutter og hente jeres børn. Afhentning foregår ved Egemose  \ns
 pejdercenter. Videre trafikinformationer kommer senere eller kan læses p
 å  \nEgemosecenterets hjemmeside.\n\nMed venlig hilsen\,\n\nWagandoo spej
 dergruppe\n\n\n
URL:https://www.wagandoo.dk/begivenhed/oak-city-rally-50-aars-jubilaeum
DTSTART:20250601T053000Z
DTEND:20250601T130000Z
LOCATION:Wagandoo Gruppe\, Ibsensvej 12\, 2630 Taastrup
END:VEVENT
BEGIN:VEVENT
UID:gruppeweb.dk:2415:event:2227
DTSTAMP:20260421T075925Z
LAST-MODIFIED:20260212T203036Z
SUMMARY:Wagandoo på Callisto
DESCRIPTION:\n
URL:https://www.wagandoo.dk/begivenhed/wagandoo-paa-callisto
DTSTART:20250627T150000Z
DTEND:20250628T140000Z
LOCATION:Wagandoo Gruppe\, Ibsensvej 12\, 2630 Taastrup
END:VEVENT
BEGIN:VEVENT
UID:gruppeweb.dk:2415:event:2328
DTSTAMP:20260421T075925Z
LAST-MODIFIED:20250804T191923Z
SUMMARY:Møde i Klanen
DESCRIPTION:\n
URL:https://www.wagandoo.dk/begivenhed/moede-i-klanen-19
DTSTART:20250807T170000Z
DTEND:20250807T190000Z
LOCATION:Wagandoo Gruppe\, Ibsensvej 12\, 2630 Taastrup
END:VEVENT
BEGIN:VEVENT
UID:gruppeweb.dk:2415:event:2228
DTSTAMP:20260421T075925Z
LAST-MODIFIED:20260212T203033Z
SUMMARY:Sommergrill - bestyrelsen\, ledere og assistenter samt støtteforen
 ingen
DESCRIPTION:\n
URL:https://www.wagandoo.dk/begivenhed/sommergrill-bestyrelsen-ledere-og-as
 sistenter-samt-stoetteforeningen
DTSTART:20250814T160000Z
DTEND:20250814T190000Z
LOCATION:Wagandoo Gruppe\, Ibsensvej 12\, 2630 Taastrup
END:VEVENT
BEGIN:VEVENT
UID:gruppeweb.dk:2415:event:2327
DTSTAMP:20260421T075925Z
LAST-MODIFIED:20250804T191923Z
SUMMARY:Møde i Klanen
DESCRIPTION:\n
URL:https://www.wagandoo.dk/begivenhed/moede-i-klanen-18
DTSTART:20250814T170000Z
DTEND:20250814T190000Z
LOCATION:Wagandoo Gruppe\, Ibsensvej 12\, 2630 Taastrup
END:VEVENT
BEGIN:VEVENT
UID:gruppeweb.dk:2415:event:2326
DTSTAMP:20260421T075925Z
LAST-MODIFIED:20250804T191923Z
SUMMARY:Møde i Klanen
DESCRIPTION:\n
URL:https://www.wagandoo.dk/begivenhed/moede-i-klanen-17
DTSTART:20250821T170000Z
DTEND:20250821T190000Z
LOCATION:Wagandoo Gruppe\, Ibsensvej 12\, 2630 Taastrup
END:VEVENT
BEGIN:VEVENT
UID:gruppeweb.dk:2415:event:2325
DTSTAMP:20260421T075925Z
LAST-MODIFIED:20250804T191923Z
SUMMARY:Møde i Klanen
DESCRIPTION:\n
URL:https://www.wagandoo.dk/begivenhed/moede-i-klanen-16
DTSTART:20250828T170000Z
DTEND:20250828T190000Z
LOCATION:Wagandoo Gruppe\, Ibsensvej 12\, 2630 Taastrup
END:VEVENT
BEGIN:VEVENT
UID:gruppeweb.dk:2415:event:2324
DTSTAMP:20260421T075925Z
LAST-MODIFIED:20250804T191923Z
SUMMARY:Møde i Klanen
DESCRIPTION:\n
URL:https://www.wagandoo.dk/begivenhed/moede-i-klanen-15
DTSTART:20250904T170000Z
DTEND:20250904T190000Z
LOCATION:Wagandoo Gruppe\, Ibsensvej 12\, 2630 Taastrup
END:VEVENT
BEGIN:VEVENT
UID:gruppeweb.dk:2415:event:2348
DTSTAMP:20260421T075925Z
LAST-MODIFIED:20260212T202856Z
SUMMARY:Hus- og havedag
DESCRIPTION:Forældre\, spejdere og ledere giver vores hus og have/grund en
  kærlig  \nomgang. Der vil blive organiseret noget forplejning til de fre
 mmødte.  \nSpejderbørn er velkomne\, men under forældrenes ansvar og vi
  kan godt finde  \nopgaver til alle aldre.\n\n
URL:https://www.wagandoo.dk/begivenhed/hus-og-havedag-7
DTSTART:20250906T070000Z
DTEND:20250906T130000Z
LOCATION:Wagandoo Gruppe\, Ibsensvej 12\, 2630 Taastrup
END:VEVENT
BEGIN:VEVENT
UID:gruppeweb.dk:2415:event:2323
DTSTAMP:20260421T075925Z
LAST-MODIFIED:20250804T191923Z
SUMMARY:Møde i Klanen
DESCRIPTION:\n
URL:https://www.wagandoo.dk/begivenhed/moede-i-klanen-14
DTSTART:20250911T170000Z
DTEND:20250911T190000Z
LOCATION:Wagandoo Gruppe\, Ibsensvej 12\, 2630 Taastrup
END:VEVENT
BEGIN:VEVENT
UID:gruppeweb.dk:2415:event:2322
DTSTAMP:20260421T075925Z
LAST-MODIFIED:20250804T191923Z
SUMMARY:Møde i Klanen
DESCRIPTION:\n
URL:https://www.wagandoo.dk/begivenhed/moede-i-klanen-13
DTSTART:20250918T170000Z
DTEND:20250918T190000Z
LOCATION:Wagandoo Gruppe\, Ibsensvej 12\, 2630 Taastrup
END:VEVENT
BEGIN:VEVENT
UID:gruppeweb.dk:2415:event:2321
DTSTAMP:20260421T075925Z
LAST-MODIFIED:20250804T191923Z
SUMMARY:Møde i Klanen
DESCRIPTION:\n
URL:https://www.wagandoo.dk/begivenhed/moede-i-klanen-12
DTSTART:20250925T170000Z
DTEND:20250925T190000Z
LOCATION:Wagandoo Gruppe\, Ibsensvej 12\, 2630 Taastrup
END:VEVENT
BEGIN:VEVENT
UID:gruppeweb.dk:2415:event:2236
DTSTAMP:20260421T075925Z
LAST-MODIFIED:20260212T203015Z
SUMMARY:Fredagstilmelding - familieweekend
DESCRIPTION:\n
URL:https://www.wagandoo.dk/begivenhed/fredagstilmelding-familieweekend
DTSTART:20250926T160000Z
DTEND:20250928T120000Z
LOCATION:Wagandoo Gruppe\, Ibsensvej 12\, 2630 Taastrup
END:VEVENT
BEGIN:VEVENT
UID:gruppeweb.dk:2415:event:2237
DTSTAMP:20260421T075925Z
LAST-MODIFIED:20260212T203012Z
SUMMARY:Lørdagstilmelding - familieweekend
DESCRIPTION:\n
URL:https://www.wagandoo.dk/begivenhed/loerdagstilmelding-familieweekend
DTSTART:20250927T070000Z
DTEND:20250928T120000Z
LOCATION:Wagandoo Gruppe\, Ibsensvej 12\, 2630 Taastrup
END:VEVENT
BEGIN:VEVENT
UID:gruppeweb.dk:2415:event:2320
DTSTAMP:20260421T075925Z
LAST-MODIFIED:20250804T191923Z
SUMMARY:Møde i Klanen
DESCRIPTION:\n
URL:https://www.wagandoo.dk/begivenhed/moede-i-klanen-11
DTSTART:20251002T170000Z
DTEND:20251002T190000Z
LOCATION:Wagandoo Gruppe\, Ibsensvej 12\, 2630 Taastrup
END:VEVENT
BEGIN:VEVENT
UID:gruppeweb.dk:2415:event:2319
DTSTAMP:20260421T075925Z
LAST-MODIFIED:20250804T191923Z
SUMMARY:Møde i Klanen
DESCRIPTION:\n
URL:https://www.wagandoo.dk/begivenhed/moede-i-klanen-10
DTSTART:20251009T170000Z
DTEND:20251009T190000Z
LOCATION:Wagandoo Gruppe\, Ibsensvej 12\, 2630 Taastrup
END:VEVENT
BEGIN:VEVENT
UID:gruppeweb.dk:2415:event:2318
DTSTAMP:20260421T075925Z
LAST-MODIFIED:20250804T191923Z
SUMMARY:Møde i Klanen
DESCRIPTION:\n
URL:https://www.wagandoo.dk/begivenhed/moede-i-klanen-9
DTSTART:20251016T170000Z
DTEND:20251016T190000Z
LOCATION:Wagandoo Gruppe\, Ibsensvej 12\, 2630 Taastrup
END:VEVENT
BEGIN:VEVENT
UID:gruppeweb.dk:2415:event:2317
DTSTAMP:20260421T075925Z
LAST-MODIFIED:20250804T191923Z
SUMMARY:Møde i Klanen
DESCRIPTION:\n
URL:https://www.wagandoo.dk/begivenhed/moede-i-klanen-8
DTSTART:20251023T170000Z
DTEND:20251023T190000Z
LOCATION:Wagandoo Gruppe\, Ibsensvej 12\, 2630 Taastrup
END:VEVENT
BEGIN:VEVENT
UID:gruppeweb.dk:2415:event:2316
DTSTAMP:20260421T075925Z
LAST-MODIFIED:20250804T191923Z
SUMMARY:Møde i Klanen
DESCRIPTION:\n
URL:https://www.wagandoo.dk/begivenhed/moede-i-klanen-7
DTSTART:20251030T180000Z
DTEND:20251030T200000Z
LOCATION:Wagandoo Gruppe\, Ibsensvej 12\, 2630 Taastrup
END:VEVENT
BEGIN:VEVENT
UID:gruppeweb.dk:2415:event:2315
DTSTAMP:20260421T075925Z
LAST-MODIFIED:20250804T191923Z
SUMMARY:Møde i Klanen
DESCRIPTION:\n
URL:https://www.wagandoo.dk/begivenhed/moede-i-klanen-6
DTSTART:20251106T180000Z
DTEND:20251106T200000Z
LOCATION:Wagandoo Gruppe\, Ibsensvej 12\, 2630 Taastrup
END:VEVENT
BEGIN:VEVENT
UID:gruppeweb.dk:2415:event:2314
DTSTAMP:20260421T075925Z
LAST-MODIFIED:20250804T191923Z
SUMMARY:Møde i Klanen
DESCRIPTION:\n
URL:https://www.wagandoo.dk/begivenhed/moede-i-klanen-5
DTSTART:20251113T180000Z
DTEND:20251113T200000Z
LOCATION:Wagandoo Gruppe\, Ibsensvej 12\, 2630 Taastrup
END:VEVENT
BEGIN:VEVENT
UID:gruppeweb.dk:2415:event:2313
DTSTAMP:20260421T075925Z
LAST-MODIFIED:20250804T191923Z
SUMMARY:Møde i Klanen
DESCRIPTION:\n
URL:https://www.wagandoo.dk/begivenhed/moede-i-klanen-4
DTSTART:20251120T180000Z
DTEND:20251120T200000Z
LOCATION:Wagandoo Gruppe\, Ibsensvej 12\, 2630 Taastrup
END:VEVENT
BEGIN:VEVENT
UID:gruppeweb.dk:2415:event:2352
DTSTAMP:20260421T075925Z
LAST-MODIFIED:20260212T202849Z
SUMMARY:Juleafslutning
DESCRIPTION:Wagandoo\nGruppes\n\n\n\nJULEAFSLUTNING\n\n\n\n \n\nKom og væ
 r med\ntil vores hyggelige juleafslutning for alle vores spejdere\nog dere
 s familier\n\n\n\n \n\nMandag\nd. 24. november kl. 17:30-19:00\n\n\n\n \
 n\nDer vil være\naftensmad til alle samt\n\n\n\nunderholdning\nog julehyg
 ge i lange baner!\n\n\n\n\n \n\n \n\n\n\n
URL:https://www.wagandoo.dk/begivenhed/juleafslutning-0
DTSTART:20251124T163000Z
DTEND:20251124T180000Z
LOCATION:Wagandoo Gruppe\, Ibsensvej 12\, 2630 Taastrup
END:VEVENT
BEGIN:VEVENT
UID:gruppeweb.dk:2415:event:2312
DTSTAMP:20260421T075925Z
LAST-MODIFIED:20250804T191923Z
SUMMARY:Møde i Klanen
DESCRIPTION:\n
URL:https://www.wagandoo.dk/begivenhed/moede-i-klanen-3
DTSTART:20251127T180000Z
DTEND:20251127T200000Z
LOCATION:Wagandoo Gruppe\, Ibsensvej 12\, 2630 Taastrup
END:VEVENT
BEGIN:VEVENT
UID:gruppeweb.dk:2415:event:2311
DTSTAMP:20260421T075925Z
LAST-MODIFIED:20250804T191923Z
SUMMARY:Møde i Klanen
DESCRIPTION:\n
URL:https://www.wagandoo.dk/begivenhed/moede-i-klanen-2
DTSTART:20251204T180000Z
DTEND:20251204T200000Z
LOCATION:Wagandoo Gruppe\, Ibsensvej 12\, 2630 Taastrup
END:VEVENT
BEGIN:VEVENT
UID:gruppeweb.dk:2415:event:2310
DTSTAMP:20260421T075925Z
LAST-MODIFIED:20250804T191923Z
SUMMARY:Møde i Klanen
DESCRIPTION:\n
URL:https://www.wagandoo.dk/begivenhed/moede-i-klanen-1
DTSTART:20251211T180000Z
DTEND:20251211T200000Z
LOCATION:Wagandoo Gruppe\, Ibsensvej 12\, 2630 Taastrup
END:VEVENT
BEGIN:VEVENT
UID:gruppeweb.dk:2415:event:2309
DTSTAMP:20260421T075925Z
LAST-MODIFIED:20250804T191923Z
SUMMARY:Møde i Klanen
DESCRIPTION:\n
URL:https://www.wagandoo.dk/begivenhed/moede-i-klanen-0
DTSTART:20251218T180000Z
DTEND:20251218T200000Z
LOCATION:Wagandoo Gruppe\, Ibsensvej 12\, 2630 Taastrup
END:VEVENT
BEGIN:VEVENT
UID:gruppeweb.dk:2415:event:2308
DTSTAMP:20260421T075925Z
LAST-MODIFIED:20250804T191923Z
SUMMARY:Møde i Klanen
DESCRIPTION:\n
URL:https://www.wagandoo.dk/begivenhed/moede-i-klanen
DTSTART:20251225T180000Z
DTEND:20251225T200000Z
LOCATION:Wagandoo Gruppe\, Ibsensvej 12\, 2630 Taastrup
END:VEVENT
BEGIN:VEVENT
UID:gruppeweb.dk:2415:event:2367
DTSTAMP:20260421T075925Z
LAST-MODIFIED:20260212T202821Z
SUMMARY:SL2026
DESCRIPTION:Betalingen til SL2026 sker i to lige store rater og priserne va
 rierer for de  \nenkelte afdelinger og for de mindste afhængigt af hvor m
 ange dage man  \ndeltager. Når du angiver hvem du er i tilmeldingen sker 
 der en  \nprisjustering.\n\n*Kwanga og Shandu:*\n\n2 døgn 560 DKK i to ra
 ter af 280 DKK *eller*\n\n4 døgn 810 DKK i to rater af 405 DKK\n\n*Kantar
 a\, Trop og Klan:*\n\n7+ døgn 1240 DKK i to rater af 620 DKK\n\nFor delta
 gere der både er leder nogen af dagene og deltager resten af dagene  \nsk
 al der kun betales for de dage man er deltager. Vi finder ud af det senere
   \nog her betaler I lige nu kun den mindste pris på 280 DKK.\n\nLæs mer
 e om SL2026 på https://spejderneslejr.dk/ [1] - eller spørg din  \nlede
 r. Der kommer også mere info undervejs.\n\n\n[1] https://spejderneslejr.d
 k/\n
URL:https://www.wagandoo.dk/begivenhed/sl2026
DTSTART:20260131T230000Z
DTEND:20260209T213000Z
LOCATION:Wagandoo Gruppe\, Ibsensvej 12\, 2630 Taastrup
END:VEVENT
BEGIN:VEVENT
UID:gruppeweb.dk:2415:event:2355
DTSTAMP:20260421T075925Z
LAST-MODIFIED:20260219T183105Z
SUMMARY:Grupperådsmøde
DESCRIPTION:\n
URL:https://www.wagandoo.dk/begivenhed/grupperaadsmoede-5
DTSTART:20260223T160000Z
DTEND:20260223T180000Z
LOCATION:Wagandoo Gruppe\, Ibsensvej 12\, 2630 Taastrup
END:VEVENT
BEGIN:VEVENT
UID:gruppeweb.dk:2415:event:2387
DTSTAMP:20260421T075925Z
LAST-MODIFIED:20260313T092921Z
SUMMARY:Ekstra lørdagstilmelding til fællesweekend
DESCRIPTION:\n
URL:https://www.wagandoo.dk/begivenhed/ekstra-loerdagstilmelding-til-faelle
 sweekend
DTSTART:20260314T091900Z
DTEND:20260315T091900Z
LOCATION:Wagandoo Gruppe\, Ibsensvej 12\, 2630 Taastrup
END:VEVENT
BEGIN:VEVENT
UID:gruppeweb.dk:2415:event:2379
DTSTAMP:20260421T075925Z
LAST-MODIFIED:20260223T185754Z
SUMMARY:SL2026 - anden rate
DESCRIPTION:Betalingen til SL2026 sker i to  rater og priserne varierer af
 hængigt af  \nhvor mange dage man deltager.\n\n\nVi har nu fået lagt et 
 mere præcist budget og har besluttet at sænke  \ndeltagerprisen. Derfor 
 koster rate 2 kun 120 dkk\, hvis man deltager 2 dage\,  \n195 dkk hvis man
  deltager 4 dage og 380 dkk hvis man deltager i hele lejren  \n(8 dage).\n
 \n\nLæs mere om SL2026 på https://spejderneslejr.dk/ [1] - eller spørg
  din  \nleder.\n\n\n[1] https://spejderneslejr.dk/\n
URL:https://www.wagandoo.dk/begivenhed/sl2026-anden-rate
DTSTART:20260414T220000Z
DTEND:20260414T220000Z
LOCATION:Wagandoo Gruppe\, Ibsensvej 12\, 2630 Taastrup
END:VEVENT
BEGIN:VEVENT
UID:gruppeweb.dk:2415:event:2374
DTSTAMP:20260421T075925Z
LAST-MODIFIED:20260212T202807Z
SUMMARY:Hus- og havedag
DESCRIPTION:Forældre er velkomne til at tage deres spejderbørn med - der 
 er klassisk  \nopgaver til både store og små. Der vil være både morgen
 brød og frokost  \ntil de arbejdende folk. Kom forbi hele dagen eller en 
 time eller to - alt er  \nmuligt. På et tidspunkt har vi også styr på h
 vad der skal fikses\, så vi  \nkan opdatere med hvilket værktøj I event
 uelt gerne må medbringe fra egen  \nbeholdning.\n\n
URL:https://www.wagandoo.dk/begivenhed/hus-og-havedag-8
DTSTART:20260419T070000Z
DTEND:20260419T130000Z
LOCATION:Wagandoo Gruppe\, Ibsensvej 12\, 2630 Taastrup
END:VEVENT
END:VCALENDAR
